BEGIN:VCALENDAR
PRODID:-//kirchenweb.ch gmbh//veranstaltungsausgabe v2.0//DE
VERSION:2.0
METHOD:PUBLISH
BEGIN:VEVENT
DTSTART:20261122T091500Z
DTEND:20261122T103000Z
LOCATION:St.Johann\, Kirchhofplatz\, 8200 Schaffhausen
TRANSP:OPAQUE
SEQUENCE:0
UID:189295-veranstaltung@ref-sh.ch
DTSTAMP:20260401T103253Z
DESCRIPTION:Im Licht der Auferstehungshoffnung feiern wir diesen
  Gottesdienst mit dem Gedenken aller Verstorbenen des vergehenden
  Kirchenjahres. Im Anschluss an den Gottesdienst sind Sie zum Gang auf den
  Waldfriedhof Schaffhausen eingeladen\, wo Pfarrerin Verena Hubmann Sie
  mit guten Worten und dem Licht einer Grabkerze zum Besuch der Gräber
  Ihrer lieben Verstorbenen entlässt.\n\nKontakt: Pfarrer Roland Diethelm
 \nPfarrerin Verena Hubmann\n\nWeitere Infos:
  https://www.ref-sh.ch/veranstaltung/189295
SUMMARY:Gottesdienst am Ewigkeitssonntag
PRIORITY:5
X-MICROSOFT-CDO-IMPORTANCE:1
CLASS:PUBLIC
END:VEVENT
END:VCALENDAR
