BEGIN:VCALENDAR
PRODID:-//kirchenweb.ch gmbh//veranstaltungsausgabe v2.0//DE
VERSION:2.0
METHOD:PUBLISH
BEGIN:VEVENT
DTSTART:20261025T091500Z
DTEND:20261025T101500Z
LOCATION:St.Johann\, \,
TRANSP:OPAQUE
SEQUENCE:0
UID:189290-veranstaltung@ref-sh.ch
DTSTAMP:20260401T103032Z
DESCRIPTION:Gottesdienst nach der Übernachtung in der Kirche: Die
  Jugendlichen haben ein intensives Wochenende mit einer Pilgererfahrung
  von der Bergkirche St. Michael in Büsingen und einen Tag und eine Nacht
  im Münster hinter sich und berichten von ihren Erfahrungen und
  Einsichten ins Klosterleben.\n\nIm Anschluss an den Gottesdienst
  Chilekafi\n\nKontakt: Pfarrer Roland Diethelm\n\nWeitere Infos:
  https://www.ref-sh.ch/veranstaltung/189290
SUMMARY:Gottesdienst
PRIORITY:5
X-MICROSOFT-CDO-IMPORTANCE:1
CLASS:PUBLIC
END:VEVENT
END:VCALENDAR
