BEGIN:VCALENDAR
PRODID:-//kirchenweb.ch gmbh//veranstaltungsausgabe v2.0//DE
VERSION:2.0
METHOD:PUBLISH
BEGIN:VEVENT
DTSTART:20260525T170000Z
DTEND:20260525T180000Z
LOCATION:Münster\, Münsterplatz\, 8200 Schaffhausen
TRANSP:OPAQUE
SEQUENCE:0
UID:189282-veranstaltung@ref-sh.ch
DTSTAMP:20260331T144508Z
DESCRIPTION:Kontakt: Pfarrerin Bea Kunz\n\nWeitere Infos:
  https://www.ref-sh.ch/veranstaltung/189282
SUMMARY:Gottesdienst am zweiten Pfingstfesttag
PRIORITY:5
X-MICROSOFT-CDO-IMPORTANCE:1
CLASS:PUBLIC
END:VEVENT
END:VCALENDAR
