BEGIN:VCALENDAR
PRODID:-//kirchenweb.ch gmbh//veranstaltungsausgabe v2.0//DE
VERSION:2.0
METHOD:PUBLISH
BEGIN:VEVENT
DTSTART:20260214T180000Z
DTEND:20260214T194500Z
LOCATION:St. Peter\, St. Peterstrasse 11\, 8200 Schaffhausen
TRANSP:OPAQUE
SEQUENCE:0
UID:189272-veranstaltung@ref-sh.ch
DTSTAMP:20260114T155448Z
DESCRIPTION:Die Nacht der Lichter: ein Lichtermeer aus Kerzen\, Ikonen und
  meditative Gesänge aus Taizé\, Stille und Worte aus der Heiligen
  Schrift in verschiedenen Sprachen: eine einzigartige Gelegenheit\, Gott
  zu begegnen.\n\n18.45 Uhr Einsingen\, 19.00 Uhr Beginn der Feier\, 20.45
  Uhr Ende der Feier. \n\nKontakt: Pfarrer Roland Diethelm\n\nWeitere
  Infos: https://www.ref-sh.ch/veranstaltung/189272
SUMMARY:Nacht der Lichter / ökumenischer Taizé-Gottesdienst
PRIORITY:5
X-MICROSOFT-CDO-IMPORTANCE:1
CLASS:PUBLIC
END:VEVENT
END:VCALENDAR
