BEGIN:VCALENDAR
PRODID:-//kirchenweb.ch gmbh//veranstaltungsausgabe v2.0//DE
VERSION:2.0
METHOD:PUBLISH
BEGIN:VEVENT
DTSTART:20260920T081500Z
DTEND:20260920T093000Z
LOCATION:St.Johann\, Kirchhofplatz\, 8200 Schaffhausen
TRANSP:OPAQUE
SEQUENCE:0
UID:189259-veranstaltung@ref-sh.ch
DTSTAMP:20260401T102709Z
DESCRIPTION:Gottesdienst mit Abendmahl\nIm Anschluss an den Gottesdienst
  Apero\n\n\nKontakt: Pfarrer Roland Diethelm\n\nWeitere Infos:
  https://www.ref-sh.ch/veranstaltung/189259
SUMMARY:Gottesdienst zum Dank-\, Buss- und Bettag
PRIORITY:5
X-MICROSOFT-CDO-IMPORTANCE:1
CLASS:PUBLIC
END:VEVENT
END:VCALENDAR
