BEGIN:VCALENDAR
PRODID:-//kirchenweb.ch gmbh//veranstaltungsausgabe v2.0//DE
VERSION:2.0
METHOD:PUBLISH
BEGIN:VEVENT
DTSTART:20260510T081500Z
DTEND:20260510T093000Z
LOCATION:St.Johann\, Kirchhofplatz\, 8200 Schaffhausen
TRANSP:OPAQUE
SEQUENCE:0
UID:189242-veranstaltung@ref-sh.ch
DTSTAMP:20260414T220720Z
DESCRIPTION:Ev.-ref. „Erstkommunion“ – Einführung ins Abendmahl\nAm
  10. Mai werden in diesem Gottesdienst Kinder in das Abendmahl
  eingeführt. Im reformierten Sprachgebrauch heisst das nüchtern:
  Einführung ins Abendmahl. Wer es etwas volkstümlicher mag\, darf mit
  einem freundlichen Seitenblick auf die katholische Nachbarschaft auch von
  einer ev.-ref. „Erstkommunion“ reden. Das ist nicht dogmatisch
  gemeint\, sondern als kleine ehrerbietige Ironie: ein festlicher erster
  bewusster Gang an den Tisch des Herrn.\n\nIm Mittelpunkt steht die
  Gabenbereitung: Menschen bringen\, was da ist – Brot\, Leben\, Dank\,
  Bitte\, Freude und Sorge. Und es wird sichtbar\, dass Gott gerade das\,
  was wir bringen\, annimmt\, verwandelt und zum Segen werden lässt. Dazu
  steht die Geschichte von der wunderbaren Brotvermehrung\, von der
  Speisung der Fünftausend. Sie erzählt davon\, dass in den Händen Jesu
  aus wenig genug wird\, ja Fülle für viele. Was geteilt wird\, wird
  nicht weniger. Im Teilen wächst Leben. Aus Gabe wird Gemeinschaft.\n\nSo
  führt dieser Gottesdienst Kinder und Gemeinde an das Geheimnis des
  Abendmahls heran: Christus lädt an seinen Tisch\, sammelt Menschen um
  sich und schenkt in Brot und Kelch Anteil an seiner Gegenwart. Was wir
  empfangen\, können wir nicht festhalten; wir können es nur weitergeben.
  Darin liegt sein Reichtum.\n\nEin Gemeindegottesdienst mit Beteiligung
  von Kindern und Familien.\n\nGottesdienst mit Abendmahl\nIm Anschluss an
  den Gottesdienst Brunch im Pfarrhaus für die Familien der Dritt- und
  Viertklässler\n\nKontakt: Pfarrer Roland Diethelm\n\nWeitere Infos:
  https://www.ref-sh.ch/veranstaltung/189242
SUMMARY:Gottesdienst am sechsten Sonntag in der Osterzeit
PRIORITY:5
X-MICROSOFT-CDO-IMPORTANCE:1
CLASS:PUBLIC
END:VEVENT
END:VCALENDAR
