BEGIN:VCALENDAR
PRODID:-//kirchenweb.ch gmbh//veranstaltungsausgabe v2.0//DE
VERSION:2.0
METHOD:PUBLISH
BEGIN:VEVENT
DTSTART:20260419T081500Z
DTEND:20260419T091500Z
LOCATION:St.Johann\, Kirchhofplatz\, 8200 Schaffhausen
TRANSP:OPAQUE
SEQUENCE:0
UID:189239-veranstaltung@ref-sh.ch
DTSTAMP:20260331T143333Z
DESCRIPTION:Im Anschluss an den Gottesdienst Chilekafi\n\nKontakt:
  Pfarrerin Verena Hubmann\n\nWeitere Infos:
  https://www.ref-sh.ch/veranstaltung/189239
SUMMARY:Gottesdienst am dritten Sonntag in der Osterzeit
PRIORITY:5
X-MICROSOFT-CDO-IMPORTANCE:1
CLASS:PUBLIC
END:VEVENT
END:VCALENDAR
