BEGIN:VCALENDAR
PRODID:-//kirchenweb.ch gmbh//veranstaltungsausgabe v2.0//DE
VERSION:2.0
METHOD:PUBLISH
BEGIN:VEVENT
DTSTART:20260329T081500Z
DTEND:20260329T093000Z
LOCATION:St.Johann\, Kirchhofplatz\, 8200 Schaffhausen
TRANSP:OPAQUE
SEQUENCE:0
UID:189235-veranstaltung@ref-sh.ch
DTSTAMP:20260324T164238Z
DESCRIPTION:Mit goldener Konfirmation\nGottesdienst mit Abendmahl\nIm
  Anschluss an den Gottesdienst Apero und Turmbesteigung \n\nPalmsonntag
  mit Pilgern und Jubilaren\nDer Palmsonntagsgottesdienst in der
  Stadtkirche St. Johann steht in diesem Jahr im Zeichen besonderer Gäste.
  Eingeladen sind die goldenen Konfirmandinnen und Konfirmanden\, die
  fünfzig Jahre nach ihrer Konfirmation an den Ort ihrer kirchlichen
  Heimat zurückkehren.\nZugleich werden Jakobspilgerinnen und Jakobspilger
  aus der ganzen Schweiz im Gottesdienst begrüsst. Der Palmsonntag
  erinnert an den Weg Jesu nach Jerusalem - ein starkes Bild für
  Menschen\, die selbst unterwegs sind.\nMusikalisch gestaltet unser
  Kirchenchor La Capella unter Leitung von Burga Schall die Feier gemeinsam
  mit dem Akkordeon und Mundharmonika-Duo d'Accord und Organist Andreas
  Jud.\n\nKontakt: Pfarrer Roland Diethelm\n\nWeitere Infos:
  https://www.ref-sh.ch/veranstaltung/189235
SUMMARY:Gottesdienst am Palmsonntag
PRIORITY:5
X-MICROSOFT-CDO-IMPORTANCE:1
CLASS:PUBLIC
END:VEVENT
END:VCALENDAR
