BEGIN:VCALENDAR
PRODID:-//kirchenweb.ch gmbh//veranstaltungsausgabe v2.0//DE
VERSION:2.0
METHOD:PUBLISH
BEGIN:VEVENT
DTSTART:20260301T091500Z
DTEND:20260301T101500Z
LOCATION:St.Johann\, Kirchhofplatz\, 8200 Schaffhausen
TRANSP:OPAQUE
SEQUENCE:0
UID:189231-veranstaltung@ref-sh.ch
DTSTAMP:20260303T143206Z
DESCRIPTION:Mit einem Friedensgebet in ukrainischer und deutscher Sprache
  aus Anlass des vierten Jahrestags des russischen Überfalls auf die
  Ukraine (24. Februar 2022).\n\nIm Anschluss an den Gottesdienst Chilekafi
 \n\nKontakt: Pfarrer Roland Diethelm\n\nWeitere Infos:
  https://www.ref-sh.ch/veranstaltung/189231
SUMMARY:Gottesdienst am zweiten Sonntag in der Passionszeit
PRIORITY:5
X-MICROSOFT-CDO-IMPORTANCE:1
CLASS:PUBLIC
END:VEVENT
END:VCALENDAR
