BEGIN:VCALENDAR
PRODID:-//kirchenweb.ch gmbh//veranstaltungsausgabe v2.0//DE
VERSION:2.0
METHOD:PUBLISH
BEGIN:VEVENT
DTSTART:20260208T091500Z
DTEND:20260208T101500Z
LOCATION:St.Johann\, Kirchhofplatz\, 8200 Schaffhausen
TRANSP:OPAQUE
SEQUENCE:0
UID:189228-veranstaltung@ref-sh.ch
DTSTAMP:20260205T165116Z
DESCRIPTION:"So sollt ihr beten!" (Mt 6\,9-13; Lk 11\,2-4) - Das
  Unservater in Wort\, Lied und Musik.\nIm Anschluss an den Gottesdienst
  Chilekafi\n\nKontakt: Pfarrerin Verena Hubmann\n\nWeitere Infos:
  https://www.ref-sh.ch/veranstaltung/189228
SUMMARY:Gottesdienst
PRIORITY:5
X-MICROSOFT-CDO-IMPORTANCE:1
CLASS:PUBLIC
END:VEVENT
END:VCALENDAR
