BEGIN:VCALENDAR
PRODID:-//kirchenweb.ch gmbh//veranstaltungsausgabe v2.0//DE
VERSION:2.0
METHOD:PUBLISH
BEGIN:VEVENT
DTSTART:20261003T150000Z
DTEND:20261003T160000Z
LOCATION:Kirche Lohn\, Vorderdorf\, 8235 Lohn
TRANSP:OPAQUE
SEQUENCE:0
UID:189173-veranstaltung@ref-sh.ch
DTSTAMP:20260205T113629Z
DESCRIPTION:Am Sonntag feiern wir Erntedank-Gottesdienst. Am Samstag
  können Sie sehr gerne Gaben dazu bringen. Wir sind dankbar für
  Früchte\, Gemüse\, Eier\, Konfitüre\, aber auch Kaffee oder Reis\,
  Strohballen\, Blumen\, Teigwaren etc. etc.\nDie Erntedank-Sammlung findet
  in der Kirche statt.\n\nKontakt: kaethi.leu@ref-sh.ch\n\nWeitere Infos:
  https://www.ref-sh.ch/veranstaltung/189173
SUMMARY:Erntedank-Sammlung
PRIORITY:5
X-MICROSOFT-CDO-IMPORTANCE:1
CLASS:PUBLIC
END:VEVENT
END:VCALENDAR
