BEGIN:VCALENDAR
PRODID:-//kirchenweb.ch gmbh//veranstaltungsausgabe v2.0//DE
VERSION:2.0
METHOD:PUBLISH
BEGIN:VEVENT
DTSTART:20260221T080000Z
DTEND:20260221T103000Z
LOCATION:EMK\, Parkstrasse 24\, 8200 Schaffhausen
TRANSP:OPAQUE
SEQUENCE:0
UID:189104-veranstaltung@ref-sh.ch
DTSTAMP:20251123T144828Z
DESCRIPTION:Exerzitien sind geistliche Übungen: In einem halbjährlichen
  christlichen Meditations-Kurs üben Teilnehmende\, aufmerksam zu werden
  für weniger Offensichtliches\, sorgfältiger auf biblische Texte zu
  hören\, sich selber und andere wahrnehmen und achten zu lernen. Sie
  trainieren dabei\, tragfähige Entscheidungen zu treffen\, wachsen in die
  Tiefe und halten Ausschau nach ihrem Platz in der Gesellschaft. Zwischen
  den monatlichen Gruppentreffen sind die Teilnehmenden eingeladen\, mit
  schriftlichen Anleitungen täglich zuhause zu meditieren. Regelmässige
  Einzelgespräche laden zur Reflexion des Erlebten ein und vertiefen das
  Gelernte. Die Grossen Exerzitien im Alltag dauern vom 1. November 2025
  bis Pfingsten 2026.\n\nKontakt: Pfarrer Roland Diethelm\n\nWeitere Infos:
  https://www.ref-sh.ch/veranstaltung/189104
SUMMARY:„Gott einen Ort sichern.“ Grosse Exerzitien im Alltag in
  Schaffhausen
PRIORITY:5
X-MICROSOFT-CDO-IMPORTANCE:1
CLASS:PUBLIC
END:VEVENT
END:VCALENDAR
