BEGIN:VCALENDAR
PRODID:-//kirchenweb.ch gmbh//veranstaltungsausgabe v2.0//DE
VERSION:2.0
METHOD:PUBLISH
BEGIN:VEVENT
DTSTART:20251201T150000Z
DTEND:20251201T160000Z
LOCATION:Kirche\, \,  Buchberg-Rüdlingen
TRANSP:OPAQUE
SEQUENCE:0
UID:189067-veranstaltung@ref-sh.ch
DTSTAMP:20251120T081155Z
DESCRIPTION:Mit festlicher Musik\, einer weihnächtlichen Geschichte und
  bei Gebäck und Adventstee stimmen wir uns auf den Advent und Weihnachten
  ein.\n\nKlavier: Christiane Landert\nFlöte: Doris Angst\n\nKontakt:
  barbara.erdmann@ref-sh.ch\n\nWeitere Infos:
  https://www.ref-sh.ch/veranstaltung/189067
SUMMARY:Frauenadvent
PRIORITY:5
X-MICROSOFT-CDO-IMPORTANCE:1
CLASS:PUBLIC
END:VEVENT
END:VCALENDAR
