BEGIN:VCALENDAR
PRODID:-//kirchenweb.ch gmbh//veranstaltungsausgabe v2.0//DE
VERSION:2.0
METHOD:PUBLISH
BEGIN:VEVENT
DTSTART:20260518T150000Z
DTEND:20260518T163000Z
LOCATION:Ref. Kirche Beringen\, Postberg 21\, 8222 Beringen
TRANSP:OPAQUE
SEQUENCE:0
UID:188869-veranstaltung@ref-sh.ch
DTSTAMP:20251006T082915Z
DESCRIPTION:Kontakt: Prisca Loercher\n\nWeitere Infos:
  https://www.ref-sh.ch/veranstaltung/188869
SUMMARY:Roundabout
PRIORITY:5
X-MICROSOFT-CDO-IMPORTANCE:1
CLASS:PUBLIC
END:VEVENT
END:VCALENDAR
