BEGIN:VCALENDAR
PRODID:-//kirchenweb.ch gmbh//veranstaltungsausgabe v2.0//DE
VERSION:2.0
METHOD:PUBLISH
BEGIN:VEVENT
DTSTART:20261128T090000Z
DTEND:20261128T150000Z
LOCATION:NACHBAR Stahlgiesserei\, zur Stahlgiesserei 15B\, 8200
  Schaffhausen
TRANSP:OPAQUE
SEQUENCE:0
UID:188844-veranstaltung@ref-sh.ch
DTSTAMP:20251005T122046Z
DESCRIPTION:Kontakt: Martin Schwarz\n\nWeitere Infos:
  https://www.ref-sh.ch/veranstaltung/188844
SUMMARY:reparierBar
PRIORITY:5
X-MICROSOFT-CDO-IMPORTANCE:1
CLASS:PUBLIC
END:VEVENT
END:VCALENDAR
