BEGIN:VCALENDAR
PRODID:-//kirchenweb.ch gmbh//veranstaltungsausgabe v2.0//DE
VERSION:2.0
METHOD:PUBLISH
BEGIN:VEVENT
DTSTART:20260829T080000Z
DTEND:20260829T140000Z
LOCATION:NACHBAR Stahlgiesserei\, zur Stahlgiesserei 15B\, 8200
  Schaffhausen
TRANSP:OPAQUE
SEQUENCE:0
UID:188841-veranstaltung@ref-sh.ch
DTSTAMP:20251005T122044Z
DESCRIPTION:Kontakt: Martin Schwarz\n\nWeitere Infos:
  https://www.ref-sh.ch/veranstaltung/188841
SUMMARY:reparierBar
PRIORITY:5
X-MICROSOFT-CDO-IMPORTANCE:1
CLASS:PUBLIC
END:VEVENT
END:VCALENDAR
