BEGIN:VCALENDAR
PRODID:-//kirchenweb.ch gmbh//veranstaltungsausgabe v2.0//DE
VERSION:2.0
METHOD:PUBLISH
BEGIN:VEVENT
DTSTART:20251205T180000Z
DTEND:20251205T210000Z
LOCATION:Mesmerhuus\, Kloster 14\, 8224 Löhningen
TRANSP:OPAQUE
SEQUENCE:0
UID:188813-veranstaltung@ref-sh.ch
DTSTAMP:20251125T163003Z
DESCRIPTION:Programm: zusammen Weihnachtsguetzli backen\nJugendgruppe der
  Jungen Kirche Klettgau (ab 16)\nKeine Anmeldung nötig. Aktuelle Infos im
  Whatsapp-Chat https://chat.whatsapp.com/EfOTAlfJBBO9HB9b1INMQx oder auf
  Instagram https://www.instagram.com/jugendgruppe_jkk/\n\nKontakt: Nicole
  Neukomm\n\nWeitere Infos: https://www.ref-sh.ch/veranstaltung/188813
SUMMARY:Jugendgruppe JKK
PRIORITY:5
X-MICROSOFT-CDO-IMPORTANCE:1
CLASS:PUBLIC
END:VEVENT
END:VCALENDAR
