BEGIN:VCALENDAR
PRODID:-//kirchenweb.ch gmbh//veranstaltungsausgabe v2.0//DE
VERSION:2.0
METHOD:PUBLISH
BEGIN:VEVENT
DTSTART:20251121T180000Z
DTEND:20251121T210000Z
LOCATION:Pfarrhaus Gächlingen / Kommunität Liechtig\, Im Chloster 1\,
  8214 Gächlingen
TRANSP:OPAQUE
SEQUENCE:0
UID:188812-veranstaltung@ref-sh.ch
DTSTAMP:20251120T171056Z
DESCRIPTION:Jugendgruppe der Jungen Kirche Klettgau (ab 16)\nKeine
  Anmeldung nötig. Aktuelle Infos im Whatsapp-Chat
  https://chat.whatsapp.com/EfOTAlfJBBO9HB9b1INMQx oder auf Instagram
  https://www.instagram.com/jugendgruppe_jkk/\n\nKontakt: Philippe Niklaus
 \n\nWeitere Infos: https://www.ref-sh.ch/veranstaltung/188812
SUMMARY:Jugendgruppe JKK
PRIORITY:5
X-MICROSOFT-CDO-IMPORTANCE:1
CLASS:PUBLIC
END:VEVENT
END:VCALENDAR
