BEGIN:VCALENDAR
PRODID:-//kirchenweb.ch gmbh//veranstaltungsausgabe v2.0//DE
VERSION:2.0
METHOD:PUBLISH
BEGIN:VEVENT
DTSTART:20260429T130000Z
DTEND:20260429T150000Z
LOCATION:HofAckerZentrum\, Alpenstrasse 176\, 8203 Schaffhausen
TRANSP:OPAQUE
SEQUENCE:0
UID:188805-veranstaltung@ref-sh.ch
DTSTAMP:20260319T163006Z
DESCRIPTION:Der Frühling steht vor der Tür – die Zeit des Aufblühens.
  Nicht nur in der Natur zeigen sich neue Knospen\, auch in unserem eigenen
  Leben gibt es Momente des Wachsens\, des Neubeginns und der leisen
  Veränderungen.\nBeim «Kafi Intermezzo» im April nehmen wir uns Zeit\,
  diesem Aufblühen nachzuspüren. Texte und Musik begleiten durch den
  Nachmittag – Lieder zum Mitsingen und Melodien zum Geniessen. Mit
  Adriana Di Cesare\, Gesang und Carlos Greull\, Klavier. Bei Kaffee und
  Kuchen bleibt zudem Raum für Begegnungen und Gespräche. Einritt: 5
  Franken p.P.\n\n\nKontakt: Adriana Di Cesare\n\nWeitere Infos:
  https://www.ref-sh.ch/veranstaltung/188805
SUMMARY:Kafi Intermezzo
PRIORITY:5
X-MICROSOFT-CDO-IMPORTANCE:1
CLASS:PUBLIC
END:VEVENT
END:VCALENDAR
