BEGIN:VCALENDAR
PRODID:-//kirchenweb.ch gmbh//veranstaltungsausgabe v2.0//DE
VERSION:2.0
METHOD:PUBLISH
BEGIN:VEVENT
DTSTART:20260426T160000Z
DTEND:20260426T170000Z
LOCATION:Ref. Kirche Beringen\, Postberg 21\, 8222 Beringen
TRANSP:OPAQUE
SEQUENCE:0
UID:188715-veranstaltung@ref-sh.ch
DTSTAMP:20260310T073350Z
DESCRIPTION:Die Kirchgemeinde Oberhallau ist herzlich zu diesem
  Gottesdienst eingeladen.\n\nKontakt: Pfarrerin Jutta Schenk\n\nWeitere
  Infos: https://www.ref-sh.ch/veranstaltung/188715
SUMMARY:Taizé-Gottesdienst
PRIORITY:5
X-MICROSOFT-CDO-IMPORTANCE:1
CLASS:PUBLIC
END:VEVENT
END:VCALENDAR
