BEGIN:VCALENDAR
PRODID:-//kirchenweb.ch gmbh//veranstaltungsausgabe v2.0//DE
VERSION:2.0
METHOD:PUBLISH
BEGIN:VEVENT
DTSTART:20260927T160000Z
DTEND:20260927T170000Z
LOCATION:Ref. Kirche Beringen\, Postberg 21\, 8222 Beringen
TRANSP:OPAQUE
SEQUENCE:0
UID:188711-veranstaltung@ref-sh.ch
DTSTAMP:20260213T093322Z
DESCRIPTION:Die Kirchgemeinde Löhningen-Guntmadingen ist ebenfalls
  herzlich an diesen Gottesdienst eingeladen.\n\nKontakt: Pfarrerin Jutta
  Schenk\n\nWeitere Infos: https://www.ref-sh.ch/veranstaltung/188711
SUMMARY:Regio-Taizé-Gottesdienst
PRIORITY:5
X-MICROSOFT-CDO-IMPORTANCE:1
CLASS:PUBLIC
END:VEVENT
END:VCALENDAR
