BEGIN:VCALENDAR
PRODID:-//kirchenweb.ch gmbh//veranstaltungsausgabe v2.0//DE
VERSION:2.0
METHOD:PUBLISH
BEGIN:VEVENT
DTSTART:20261018T074500Z
DTEND:20261018T084500Z
LOCATION:Ref. Kirche Beringen\, Postberg 21\, 8222 Beringen
TRANSP:OPAQUE
SEQUENCE:0
UID:188702-veranstaltung@ref-sh.ch
DTSTAMP:20260213T093350Z
DESCRIPTION:Die Kirchgemeinde Löhningen-Guntmadingen ist ebenfalls
  herzlich an diesen Gottesdienst eingeladen.\n\nKontakt: Pfarrerin Jutta
  Schenk\n\nWeitere Infos: https://www.ref-sh.ch/veranstaltung/188702
SUMMARY:(KiWo?) Regio-Gottesdienst in Beringen
PRIORITY:5
X-MICROSOFT-CDO-IMPORTANCE:1
CLASS:PUBLIC
END:VEVENT
END:VCALENDAR
