BEGIN:VCALENDAR
PRODID:-//kirchenweb.ch gmbh//veranstaltungsausgabe v2.0//DE
VERSION:2.0
METHOD:PUBLISH
BEGIN:VEVENT
DTSTART:20260419T074500Z
DTEND:20260419T084500Z
LOCATION:Ref. Kirche Beringen\, Postberg 21\, 8222 Beringen
TRANSP:OPAQUE
SEQUENCE:0
UID:188700-veranstaltung@ref-sh.ch
DTSTAMP:20260305T082450Z
DESCRIPTION:Die Kirchgemeinde Löhningen-Guntmadingen ist ebenfalls
  herzlich an diesen Gottesdienst eingeladen.\nanschl. Kirchenkaffee\n
 \nKontakt: Pfarrerin Jutta Schenk\n\nWeitere Infos:
  https://www.ref-sh.ch/veranstaltung/188700
SUMMARY:Regio-Gottesdienst in Beringen
PRIORITY:5
X-MICROSOFT-CDO-IMPORTANCE:1
CLASS:PUBLIC
END:VEVENT
END:VCALENDAR
