BEGIN:VCALENDAR
PRODID:-//kirchenweb.ch gmbh//veranstaltungsausgabe v2.0//DE
VERSION:2.0
METHOD:PUBLISH
BEGIN:VEVENT
DTSTART:20270101T160000Z
DTEND:20270101T170000Z
LOCATION:Ref. Kirche Beringen\, Postberg 21\, 8222 Beringen
TRANSP:OPAQUE
SEQUENCE:0
UID:188696-veranstaltung@ref-sh.ch
DTSTAMP:20260213T093806Z
DESCRIPTION:Kontakt: Pfrn. J. Schenk\n\nWeitere Infos:
  https://www.ref-sh.ch/veranstaltung/188696
SUMMARY:Gottesdienst zum Jahresbeginn
PRIORITY:5
X-MICROSOFT-CDO-IMPORTANCE:1
CLASS:PUBLIC
END:VEVENT
END:VCALENDAR
