BEGIN:VCALENDAR
PRODID:-//kirchenweb.ch gmbh//veranstaltungsausgabe v2.0//DE
VERSION:2.0
METHOD:PUBLISH
BEGIN:VEVENT
DTSTART:20261101T084500Z
DTEND:20261101T094500Z
LOCATION:Ref. Kirche Beringen\, Postberg 21\, 8222 Beringen
TRANSP:OPAQUE
SEQUENCE:0
UID:188695-veranstaltung@ref-sh.ch
DTSTAMP:20260414T092234Z
DESCRIPTION:Gottesdienst zum Reformationssonntag mit dem Kirchenchor
 \nanschl. Apéro\n\nKontakt: Hansjörg Hasler\n\nWeitere Infos:
  https://www.ref-sh.ch/veranstaltung/188695
SUMMARY:Gottesdienst zum Reformationssonntag
PRIORITY:5
X-MICROSOFT-CDO-IMPORTANCE:1
CLASS:PUBLIC
END:VEVENT
END:VCALENDAR
