BEGIN:VCALENDAR
PRODID:-//kirchenweb.ch gmbh//veranstaltungsausgabe v2.0//DE
VERSION:2.0
METHOD:PUBLISH
BEGIN:VEVENT
DTSTART:20261225T084500Z
DTEND:20261225T094500Z
LOCATION:Ref. Kirche Beringen\, Postberg 21\, 8222 Beringen
TRANSP:OPAQUE
SEQUENCE:0
UID:188694-veranstaltung@ref-sh.ch
DTSTAMP:20260414T092332Z
DESCRIPTION:mit Abendmahl (Einzelkelch)\n\nKontakt: Pfarrerin Jutta Schenk
 \n\nWeitere Infos: https://www.ref-sh.ch/veranstaltung/188694
SUMMARY:Gottesdienst zu Weihnachten mit Abendmahl
PRIORITY:5
X-MICROSOFT-CDO-IMPORTANCE:1
CLASS:PUBLIC
END:VEVENT
END:VCALENDAR
