BEGIN:VCALENDAR
PRODID:-//kirchenweb.ch gmbh//veranstaltungsausgabe v2.0//DE
VERSION:2.0
METHOD:PUBLISH
BEGIN:VEVENT
DTSTART:20261212T160000Z
DTEND:20261212T170000Z
LOCATION:Ref. Kirche Beringen\, Postberg 21\, 8222 Beringen
TRANSP:OPAQUE
SEQUENCE:0
UID:188693-veranstaltung@ref-sh.ch
DTSTAMP:20260213T093705Z
DESCRIPTION:Abend-Gottesdienst am Samstag zum 3. Advent mit dem
  Kirchenchor\n\nKontakt: Pfarrerin Jutta Schenk\n\nWeitere Infos:
  https://www.ref-sh.ch/veranstaltung/188693
SUMMARY:Abend-Gottesdienst zum 3. Advent
PRIORITY:5
X-MICROSOFT-CDO-IMPORTANCE:1
CLASS:PUBLIC
END:VEVENT
END:VCALENDAR
