BEGIN:VCALENDAR
PRODID:-//kirchenweb.ch gmbh//veranstaltungsausgabe v2.0//DE
VERSION:2.0
METHOD:PUBLISH
BEGIN:VEVENT
DTSTART:20260530T160000Z
DTEND:20260530T170000Z
LOCATION:Ref. Kirche Beringen\, Postberg 21\, 8222 Beringen
TRANSP:OPAQUE
SEQUENCE:0
UID:188683-veranstaltung@ref-sh.ch
DTSTAMP:20260223T070617Z
DESCRIPTION:Abend-Gottesdienst am Samstag\n\nKontakt: Hansjörg Hasler\n
 \nWeitere Infos: https://www.ref-sh.ch/veranstaltung/188683
SUMMARY:Abend-Gottesdienst
PRIORITY:5
X-MICROSOFT-CDO-IMPORTANCE:1
CLASS:PUBLIC
END:VEVENT
END:VCALENDAR
