BEGIN:VCALENDAR
PRODID:-//kirchenweb.ch gmbh//veranstaltungsausgabe v2.0//DE
VERSION:2.0
METHOD:PUBLISH
BEGIN:VEVENT
DTSTART:20261206T084500Z
DTEND:20261206T094500Z
LOCATION:Ref. Kirche Beringen\, Postberg 21\, 8222 Beringen
TRANSP:OPAQUE
SEQUENCE:0
UID:188681-veranstaltung@ref-sh.ch
DTSTAMP:20260213T093652Z
DESCRIPTION:anschl. Kirchenkaffee\n\nKontakt: Pfarrerin Jutta Schenk\n
 \nWeitere Infos: https://www.ref-sh.ch/veranstaltung/188681
SUMMARY:Gottesdienst
PRIORITY:5
X-MICROSOFT-CDO-IMPORTANCE:1
CLASS:PUBLIC
END:VEVENT
END:VCALENDAR
