BEGIN:VCALENDAR
PRODID:-//kirchenweb.ch gmbh//veranstaltungsausgabe v2.0//DE
VERSION:2.0
METHOD:PUBLISH
BEGIN:VEVENT
DTSTART:20261115T084500Z
DTEND:20261115T094500Z
LOCATION:Ref. Kirche Beringen\, Postberg 21\, 8222 Beringen
TRANSP:OPAQUE
SEQUENCE:0
UID:188679-veranstaltung@ref-sh.ch
DTSTAMP:20260213T093611Z
DESCRIPTION:Kontakt: Matthias Stahlmann\, 0049 173 882 35 62\n\nWeitere
  Infos: https://www.ref-sh.ch/veranstaltung/188679
SUMMARY:Gottesdienst
PRIORITY:5
X-MICROSOFT-CDO-IMPORTANCE:1
CLASS:PUBLIC
END:VEVENT
END:VCALENDAR
