BEGIN:VCALENDAR
PRODID:-//kirchenweb.ch gmbh//veranstaltungsausgabe v2.0//DE
VERSION:2.0
METHOD:PUBLISH
BEGIN:VEVENT
DTSTART:20260621T074500Z
DTEND:20260621T084500Z
LOCATION:Ref. Kirche Beringen\, Postberg 21\, 8222 Beringen
TRANSP:OPAQUE
SEQUENCE:0
UID:188676-veranstaltung@ref-sh.ch
DTSTAMP:20260407T082450Z
DESCRIPTION:Mitwirkung Kirchenchor\nanschl. Apéro\n\n\nKontakt: Pfarrerin
  Jutta Schenk\n\nWeitere Infos: https://www.ref-sh.ch/veranstaltung/188676
SUMMARY:Gottesdienst mit Taufe Leandro Corrodi
PRIORITY:5
X-MICROSOFT-CDO-IMPORTANCE:1
CLASS:PUBLIC
END:VEVENT
END:VCALENDAR
