BEGIN:VCALENDAR
PRODID:-//kirchenweb.ch gmbh//veranstaltungsausgabe v2.0//DE
VERSION:2.0
METHOD:PUBLISH
BEGIN:VEVENT
DTSTART:20261103T184500Z
DTEND:20261103T203000Z
LOCATION:Kirchgemeindehaus Beringen\, \,
TRANSP:OPAQUE
SEQUENCE:0
UID:188631-veranstaltung@ref-sh.ch
DTSTAMP:20250927T124109Z
DESCRIPTION:Kontakt: Verena Gerber\n\nWeitere Infos:
  https://www.ref-sh.ch/veranstaltung/188631
SUMMARY:Chorprobe
PRIORITY:5
X-MICROSOFT-CDO-IMPORTANCE:1
CLASS:PUBLIC
END:VEVENT
END:VCALENDAR
