BEGIN:VCALENDAR
PRODID:-//kirchenweb.ch gmbh//veranstaltungsausgabe v2.0//DE
VERSION:2.0
METHOD:PUBLISH
BEGIN:VEVENT
DTSTART:20260908T180000Z
DTEND:20260908T200000Z
LOCATION:St. Konrad Schaffhausen \, \,
TRANSP:OPAQUE
SEQUENCE:0
UID:188626-veranstaltung@ref-sh.ch
DTSTAMP:20251204T153008Z
DESCRIPTION:Kontakt: Verena Gerber\n\nWeitere Infos:
  https://www.ref-sh.ch/veranstaltung/188626
SUMMARY:Chorprobe
PRIORITY:5
X-MICROSOFT-CDO-IMPORTANCE:1
CLASS:PUBLIC
END:VEVENT
END:VCALENDAR
