BEGIN:VCALENDAR
PRODID:-//kirchenweb.ch gmbh//veranstaltungsausgabe v2.0//DE
VERSION:2.0
METHOD:PUBLISH
BEGIN:VEVENT
DTSTART:20260505T174500Z
DTEND:20260505T193000Z
LOCATION:Kirchgemeindehaus Beringen\, \,
TRANSP:OPAQUE
SEQUENCE:0
UID:188613-veranstaltung@ref-sh.ch
DTSTAMP:20250927T124103Z
DESCRIPTION:Kontakt: Verena Gerber\n\nWeitere Infos:
  https://www.ref-sh.ch/veranstaltung/188613
SUMMARY:Chorprobe
PRIORITY:5
X-MICROSOFT-CDO-IMPORTANCE:1
CLASS:PUBLIC
END:VEVENT
END:VCALENDAR
