BEGIN:VCALENDAR
PRODID:-//kirchenweb.ch gmbh//veranstaltungsausgabe v2.0//DE
VERSION:2.0
METHOD:PUBLISH
BEGIN:VEVENT
DTSTART:20260512T080000Z
DTEND:20260512T084500Z
LOCATION:Altersheim am Buck\, Untere Buckstrasse 11\, 8215 Hallau
TRANSP:OPAQUE
SEQUENCE:0
UID:188436-veranstaltung@ref-sh.ch
DTSTAMP:20260126T084556Z
DESCRIPTION:Kontakt: Wiebke Suter\n\nWeitere Infos:
  https://www.ref-sh.ch/veranstaltung/188436
SUMMARY:Gottesdienst im Haus am Buck
PRIORITY:5
X-MICROSOFT-CDO-IMPORTANCE:1
CLASS:PUBLIC
END:VEVENT
END:VCALENDAR
