BEGIN:VCALENDAR
PRODID:-//kirchenweb.ch gmbh//veranstaltungsausgabe v2.0//DE
VERSION:2.0
METHOD:PUBLISH
BEGIN:VEVENT
DTSTART:20260509T080000Z
DTEND:20260509T090000Z
LOCATION:Dorfkirche Schleitheim\, \,
TRANSP:OPAQUE
SEQUENCE:0
UID:188426-veranstaltung@ref-sh.ch
DTSTAMP:20260306T083116Z
DESCRIPTION:Kontakt: Susanne Mende\n\nWeitere Infos:
  https://www.ref-sh.ch/veranstaltung/188426
SUMMARY:Erstkommunion
PRIORITY:5
X-MICROSOFT-CDO-IMPORTANCE:1
CLASS:PUBLIC
END:VEVENT
END:VCALENDAR
