BEGIN:VCALENDAR
PRODID:-//kirchenweb.ch gmbh//veranstaltungsausgabe v2.0//DE
VERSION:2.0
METHOD:PUBLISH
BEGIN:VEVENT
DTSTART:20260314T080000Z
DTEND:20260314T110000Z
LOCATION:Pfarrhaussaal\, Im Chloster 1\, 8214 Gächlingen
TRANSP:OPAQUE
SEQUENCE:0
UID:188387-veranstaltung@ref-sh.ch
DTSTAMP:20260221T164100Z
DESCRIPTION:Die Gemeindeleitung (Strategiegruppe) der Kirchgemeinde
  Gächlingen tagt im Frühling.\nInformationen dazu:
 \nhttps://www.ref-sh.ch/kg/gaechlingen/gaechlingen-behoerden
 \nhttps://www.ref-sh.ch/kg/gaechlingen/gemeindeleitung\n\n \nFür
  Teilnehmende: für Gipfeli und Zmittag:
 \nhttps://www.ref-sh.ch/kg/gaechlingen/gl-bestellung#formular
 \nhttps://www.ref-sh.ch/gl-s1\n\n\nKontakt: werner.naef@ref-sh.ch\n
 \nWeitere Infos: https://www.ref-sh.ch/veranstaltung/188387
SUMMARY:Strategieteam: Gemeindeleitungsvormittag Frühling
PRIORITY:5
X-MICROSOFT-CDO-IMPORTANCE:1
CLASS:PUBLIC
END:VEVENT
END:VCALENDAR
