BEGIN:VCALENDAR
PRODID:-//kirchenweb.ch gmbh//veranstaltungsausgabe v2.0//DE
VERSION:2.0
METHOD:PUBLISH
BEGIN:VEVENT
DTSTART:20260809T080000Z
DTEND:20260809T090000Z
LOCATION:Kirche Lohn\, Vorderdorf\, 8235 Lohn
TRANSP:OPAQUE
SEQUENCE:0
UID:188358-veranstaltung@ref-sh.ch
DTSTAMP:20260205T112649Z
DESCRIPTION:Gottesdienst zum Schulanfang\n\n\nKontakt: Michèle Lampinen\n
 \nWeitere Infos: https://www.ref-sh.ch/veranstaltung/188358
SUMMARY:Schulanfangs-Gottesdienst
PRIORITY:5
X-MICROSOFT-CDO-IMPORTANCE:1
CLASS:PUBLIC
END:VEVENT
END:VCALENDAR
