BEGIN:VCALENDAR
PRODID:-//kirchenweb.ch gmbh//veranstaltungsausgabe v2.0//DE
VERSION:2.0
METHOD:PUBLISH
BEGIN:VEVENT
DTSTART:20260621T073000Z
DTEND:20260621T083000Z
LOCATION:Kirche Lohn\, Vorderdorf\, 8235 Lohn
TRANSP:OPAQUE
SEQUENCE:0
UID:188355-veranstaltung@ref-sh.ch
DTSTAMP:20260205T112404Z
DESCRIPTION:Gottesdienst\nAnschliessend Kirchenkaffee im Pfarrhaussaal\n
 \nKontakt: Michèle Lampinen\n\nWeitere Infos:
  https://www.ref-sh.ch/veranstaltung/188355
SUMMARY:Gottesdienst
PRIORITY:5
X-MICROSOFT-CDO-IMPORTANCE:1
CLASS:PUBLIC
END:VEVENT
END:VCALENDAR
