BEGIN:VCALENDAR
PRODID:-//kirchenweb.ch gmbh//veranstaltungsausgabe v2.0//DE
VERSION:2.0
METHOD:PUBLISH
BEGIN:VEVENT
DTSTART:20260607T160000Z
DTEND:20260607T170000Z
LOCATION:Kirche Lohn\, Vorderdorf\, 8235 Lohn
TRANSP:OPAQUE
SEQUENCE:0
UID:188354-veranstaltung@ref-sh.ch
DTSTAMP:20260205T112335Z
DESCRIPTION:Entdeckungen im Land des Glaubens\n"Spur 8
  Abschlussgottesdienst -  wir feiern das Fest des Lebens"\nSPUR8 besteht
  aus sieben Themenabenden und einem Gottesdienst.\n\nKontakt: Andreas
  Werder / Michèle Lampinen\n\nWeitere Infos:
  https://www.ref-sh.ch/veranstaltung/188354
SUMMARY:Spur 8 Abschlussgottesdienst
PRIORITY:5
X-MICROSOFT-CDO-IMPORTANCE:1
CLASS:PUBLIC
END:VEVENT
END:VCALENDAR
