BEGIN:VCALENDAR
PRODID:-//kirchenweb.ch gmbh//veranstaltungsausgabe v2.0//DE
VERSION:2.0
METHOD:PUBLISH
BEGIN:VEVENT
DTSTART:20260524T073000Z
DTEND:20260524T083000Z
LOCATION:Kirche Lohn\, Vorderdorf\, 8235 Lohn
TRANSP:OPAQUE
SEQUENCE:0
UID:188353-veranstaltung@ref-sh.ch
DTSTAMP:20260407T073824Z
DESCRIPTION:Festlicher Gottesdienst zu Pfingsten.\nMit Taufe und
  Abendmahl.\n\n\nKontakt: Michèle Lampinen\n\nWeitere Infos:
  https://www.ref-sh.ch/veranstaltung/188353
SUMMARY:Abendmahlsgottesdienst zu Pfingsten mit Taufe
PRIORITY:5
X-MICROSOFT-CDO-IMPORTANCE:1
CLASS:PUBLIC
END:VEVENT
END:VCALENDAR
