BEGIN:VCALENDAR
PRODID:-//kirchenweb.ch gmbh//veranstaltungsausgabe v2.0//DE
VERSION:2.0
METHOD:PUBLISH
BEGIN:VEVENT
DTSTART:20260503T083000Z
DTEND:20260503T093000Z
LOCATION:Mehrzweckhalle\, Brämlenstrasse 2\, 8234 Stetten SH
TRANSP:OPAQUE
SEQUENCE:0
UID:188352-veranstaltung@ref-sh.ch
DTSTAMP:20260413T153841Z
DESCRIPTION:Kontakt: Andreas Werder / Michèle Lampinen / Bernadette
  Peterer\n\nWeitere Infos: https://www.ref-sh.ch/veranstaltung/188352
SUMMARY:Ökumenischer Familiengottesdienst Chilbi Stetten
PRIORITY:5
X-MICROSOFT-CDO-IMPORTANCE:1
CLASS:PUBLIC
END:VEVENT
END:VCALENDAR
