BEGIN:VCALENDAR
PRODID:-//kirchenweb.ch gmbh//veranstaltungsausgabe v2.0//DE
VERSION:2.0
METHOD:PUBLISH
BEGIN:VEVENT
DTSTART:20260611T083000Z
DTEND:20260611T093000Z
LOCATION:Treffpunkt beim Restaurant Schützenhaus\, \,
TRANSP:OPAQUE
SEQUENCE:0
UID:188335-veranstaltung@ref-sh.ch
DTSTAMP:20251202T082834Z
DESCRIPTION:Schloss Rapperswil: Besichtigung Rosengärten und Schifffahrt
  von Rapperswil nach Zürich. Anmeldung bis 24. Mai an Katrin von Arx: 052
  625 38 56 oder katrin.vonarx@ref-sh.ch\n\nKontakt: Pfr. Martin
  Baumgartner\n\nWeitere Infos: https://www.ref-sh.ch/veranstaltung/188335
SUMMARY:Seniorenausflug
PRIORITY:5
X-MICROSOFT-CDO-IMPORTANCE:1
CLASS:PUBLIC
END:VEVENT
END:VCALENDAR
