BEGIN:VCALENDAR
PRODID:-//kirchenweb.ch gmbh//veranstaltungsausgabe v2.0//DE
VERSION:2.0
METHOD:PUBLISH
BEGIN:VEVENT
DTSTART:20260620T160000Z
DTEND:20260620T170000Z
LOCATION:Kirche Trasadingen\, Dorfstrasse 35\, 8219 Trasadingen
TRANSP:OPAQUE
SEQUENCE:0
UID:188324-veranstaltung@ref-sh.ch
DTSTAMP:20260416T091400Z
DESCRIPTION:Wie ist das eigentlich\, wenn jemand einen anderen Menschen
  schlimm verletzt hat? Mit Worten oder mit Taten. Man kann dann
  bestrafen\, Wiedergutmachung einfordern oder vergeben. Im Gottesdienst
  schauen wir\, welche Möglichkeit Gott wählt und feiern gemeinsam das
  Abendmahl.\n\nAnschliessend gibt’s noch einen Apéro und bei schönem
  Wetter stellen wir den Grill auf. Getränke sind vorhanden\, Grillgut
  bitte selber mitbringen.\n\nKontakt: Pfr. Stefan Leistner Baumgardt\n
 \nWeitere Infos: https://www.ref-sh.ch/veranstaltung/188324
SUMMARY:YouGo "Schuld und Vergebung" mit Abendmahl
PRIORITY:5
X-MICROSOFT-CDO-IMPORTANCE:1
CLASS:PUBLIC
END:VEVENT
END:VCALENDAR
