BEGIN:VCALENDAR
PRODID:-//kirchenweb.ch gmbh//veranstaltungsausgabe v2.0//DE
VERSION:2.0
METHOD:PUBLISH
BEGIN:VEVENT
DTSTART:20270404T080000Z
DTEND:20270404T090000Z
LOCATION:Kirche Wilchingen\, Zinggenstrasse 28\, 8217 Wilchingen
TRANSP:OPAQUE
SEQUENCE:0
UID:188323-veranstaltung@ref-sh.ch
DTSTAMP:20260213T133026Z
DESCRIPTION:Kontakt: Pfr. Stefan Leistner Baumgardt\n\nWeitere Infos:
  https://www.ref-sh.ch/veranstaltung/188323
SUMMARY:Konfirmation KU Gruppe 2027
PRIORITY:5
X-MICROSOFT-CDO-IMPORTANCE:1
CLASS:PUBLIC
END:VEVENT
END:VCALENDAR
