BEGIN:VCALENDAR
PRODID:-//kirchenweb.ch gmbh//veranstaltungsausgabe v2.0//DE
VERSION:2.0
METHOD:PUBLISH
BEGIN:VEVENT
DTSTART:20261231T160000Z
DTEND:20261231T170000Z
LOCATION:Kirche\, Kirchgasse\, 8226 Schleitheim
TRANSP:OPAQUE
SEQUENCE:0
UID:188319-veranstaltung@ref-sh.ch
DTSTAMP:20251109T144932Z
DESCRIPTION:Anschliessend Apéro.\n\nKontakt: Heinz Dutler\n\nWeitere
  Infos: https://www.ref-sh.ch/veranstaltung/188319
SUMMARY:Silvester-Gottesdienst
PRIORITY:5
X-MICROSOFT-CDO-IMPORTANCE:1
CLASS:PUBLIC
END:VEVENT
END:VCALENDAR
