BEGIN:VCALENDAR
PRODID:-//kirchenweb.ch gmbh//veranstaltungsausgabe v2.0//DE
VERSION:2.0
METHOD:PUBLISH
BEGIN:VEVENT
DTSTART:20251023T063000Z
DTEND:20251023T090000Z
LOCATION:christkatholisches Kirchgemeindehaus\, Beckengässchen 29\, 8200
  Schaffhausen
TRANSP:OPAQUE
SEQUENCE:0
UID:188285-veranstaltung@ref-sh.ch
DTSTAMP:20251022T053031Z
DESCRIPTION:8.30 Uhr Ankommen  und Zmorge\n9.00 Uhr Morgenimpuls\n9.15 Uhr
  Befinden und Regionalia\nim Anschluss noch je nach Zeit 2 Themen:\n-
  Infos aus der Christkatholischen Kirche und Zukunftsentwicklung\n-
  Umgang\, Hilfe und Support (Daniela kann hier noch einen Input
  einbringen) von kirchlicher Seite (Christkatholisch; ref. ) bei 
  erkrankten Kolleginnen und Kollegen u.a. bei Depressionen\n11.00 Uhr Ende
  der Sitzung\n\nKontakt: Pfr. Klaus Gross\n\nWeitere Infos:
  https://www.ref-sh.ch/veranstaltung/188285
SUMMARY:Klettgauer Kapitel
PRIORITY:5
X-MICROSOFT-CDO-IMPORTANCE:1
CLASS:PUBLIC
END:VEVENT
END:VCALENDAR
