BEGIN:VCALENDAR
PRODID:-//kirchenweb.ch gmbh//veranstaltungsausgabe v2.0//DE
VERSION:2.0
METHOD:PUBLISH
BEGIN:VEVENT
DTSTART:20260505T170000Z
DTEND:20260505T183000Z
LOCATION:Laufen am Rheinfall\, Laufen am Rheinfall 7\, 8447 Dachsen
TRANSP:OPAQUE
SEQUENCE:0
UID:188282-veranstaltung@ref-sh.ch
DTSTAMP:20260312T073955Z
DESCRIPTION:Am diesjährigen Round Table Jugend dürfen wir bei unseren
  Nachbarn auf der anderen Seite des Rheins zu Gast sein und einen Einblick
  in die Jugendarbeit Zäment erhalten. Dabei erzählen Jugendliche direkt
  von ihren Erfahrungen und ihrer Motivation\, bei dieser Jugendgruppe
  mitzuwirken.\n\nWir treffen uns um 19.00 Uhr in der Arche 2.0 bei der
  Kirche Laufen am Rheinfall
  https://search.ch/map/Dachsen\,Laufen-am-Rheinfall-7 \nZugverbindung:
  Schaffhausen ab: 18.46 Uhr\, Gleis 1 A-C (S12 Richtung Brugg) – Schloss
  Laufen am Rheinfall an: 18.51 Uhr Gleis 1\nanschliessend zu Fuss oder mit
  dem Lift hoch zum Schloss Laufen und durch den Schlossparkt zur Kirche.\n
 \nEin kleiner Vorgeschmack auf die Jugendarbeit Zäment findet ihr hier:
  https://www.kirchgemeindeplus.ch/zaement/\n\nZudem wird am Round Table
  über News aus den Kirchgemeinden und der Kantonalkirche informiert.
  Weiter besteht die Möglichkeit Themen und Fragen\, die in den
  Jugendarbeiten im Alltag beschäftigen\, zu diskutieren und sich fachlich
  mit den anderen Teilnehmenden auszutauschen.\n\nFür das leibliche Wohl
  ist gesorgt\, es gibt einen feinen Apéro mit salzigen und süssen
  Happen. Für die Vorbereitung sind wir froh\, um eine Anmeldung bis am
  24. April 2026.\n\nDer Round Table ist für alle\, die sich aktiv in der
  kirchlichen Jugendarbeit in und um Schaffhausen engagieren. Angesprochen
  sind auch Verantwortliche in den Kirchgemeinden. Der Round Table ist ein
  Netzwerk unter den Jugendarbeitenden\, das einerseits informiert was
  alles läuft und andererseits Kontakte unter den Jugendarbeitenden
  fördert.\n\nWir freuen uns auf euch...\n\nKommission und Fachstelle Kind
  & Jugend der Ev.-ref. Kantonalkirche Schaffhausen\nRef. Kirchgemeinde
  Laufen am Rheinfall\n\nKontakt: thomas.fuhrer\n\nWeitere Infos:
  https://www.ref-sh.ch/veranstaltung/188282
SUMMARY:Round Table Jugend 2026
PRIORITY:5
X-MICROSOFT-CDO-IMPORTANCE:1
CLASS:PUBLIC
END:VEVENT
END:VCALENDAR
