BEGIN:VCALENDAR
PRODID:-//kirchenweb.ch gmbh//veranstaltungsausgabe v2.0//DE
VERSION:2.0
METHOD:PUBLISH
BEGIN:VEVENT
DTSTART:20260829T101500Z
DTEND:20260829T111500Z
LOCATION:Bergkirche Hallau\, Bergstrasse\, 8215 Hallau
TRANSP:OPAQUE
SEQUENCE:0
UID:188246-veranstaltung@ref-sh.ch
DTSTAMP:20260304T122326Z
DESCRIPTION:Kontakt: Wiebke Suter\n\nWeitere Infos:
  https://www.ref-sh.ch/veranstaltung/188246
SUMMARY:Hochzeit
PRIORITY:5
X-MICROSOFT-CDO-IMPORTANCE:1
CLASS:PUBLIC
END:VEVENT
END:VCALENDAR
