BEGIN:VCALENDAR
PRODID:-//kirchenweb.ch gmbh//veranstaltungsausgabe v2.0//DE
VERSION:2.0
METHOD:PUBLISH
BEGIN:VEVENT
DTSTART:20260510T110000Z
DTEND:20260510T113000Z
LOCATION:Festhalle\, Haingarten 31\, 8215 Hallau
TRANSP:OPAQUE
SEQUENCE:0
UID:188236-veranstaltung@ref-sh.ch
DTSTAMP:20260331T153006Z
DESCRIPTION:mit Pfarrerin Wiebke Suter und dem Männerchor Hallau\n
 \nKontakt: Wiebke Suter\n\nWeitere Infos:
  https://www.ref-sh.ch/veranstaltung/188236
SUMMARY:200 Jahre Männerchor Hallau - besinnlicher Rückblick
PRIORITY:5
X-MICROSOFT-CDO-IMPORTANCE:1
CLASS:PUBLIC
END:VEVENT
END:VCALENDAR
